BEGIN:VCALENDAR
VERSION:2.0
PRODID:-//eventon.com NONSGML v1.0//EN
CALSCALE:GREGORIAN
METHOD:PUBLISH
BEGIN:VEVENT
UID:69e60f8723ad4
DTSTAMP:20260420T113535Z
DTSTART:20260407T160000Z
DTEND:20260407T180000Z
LOCATION:1000 Viking Dr\,  Hillsboro\,  MO 63050 1000 Viking Dr\,  Hillsboro\,  MO 63050
SUMMARY:Jefferson College Pathways to Prevention Event for students
DESCRIPTION:📅 Tuesday 4/7 &#8211; Hillsboro\,  Missouri (11:00 am &#8211
 ; 1:00 pm) at Jefferson College Pathways to Prevention Event for students 
  1000 Viking Dr\,  Hillsboro\,  MO 63050\nhttps://eatthebox.net/blog/eve
 nts/jefferson-college-pathways-to-prevention-event-for-students
URL:https://eatthebox.net/blog/events/jefferson-college-pathways-to-prevention-event-for-students
END:VEVENT
END:VCALENDAR