BEGIN:VCALENDAR
VERSION:2.0
PRODID:-//eventon.com NONSGML v1.0//EN
CALSCALE:GREGORIAN
METHOD:PUBLISH
BEGIN:VEVENT
UID:69e6103cba714
DTSTAMP:20260420T113836Z
DTSTART:20260425T163000Z
DTEND:20260425T230000Z
LOCATION:2300 Bernadette Dr\,  Columbia\,  MO 65203 2300 Bernadette Dr\,  Columbia\,  MO 65203
SUMMARY:Rumble of the Food Trucks
DESCRIPTION:📅 Saturday 4/25 &#8211; Columbia\,  Missouri (11:30 am &#821
 1; 6:00 pm) at Rumble of the Food Trucks 📍 2300 Bernadette Dr\,  Columbi
 a\,  MO 65203\nhttps://eatthebox.net/blog/events/rumble-of-the-food-trucks
URL:https://eatthebox.net/blog/events/rumble-of-the-food-trucks
END:VEVENT
END:VCALENDAR