BEGIN:VCALENDAR
VERSION:2.0
PRODID:-//eventon.com NONSGML v1.0//EN
CALSCALE:GREGORIAN
METHOD:PUBLISH
BEGIN:VEVENT
UID:69e60f58b8105
DTSTAMP:20260420T113448Z
DTSTART:20260419T140000Z
DTEND:20260419T180000Z
LOCATION:102 N Truman Blvd\,  Crystal City\,  MO\,  United States\,  Missouri 102 N Truman Blvd\,  Crystal City\,  MO\,  United States\,  Missouri
SUMMARY:Crystal City Farmers Market
DESCRIPTION:📅 Sunday 4/19 &#8211; Crystal City\,  Missouri (9:00 am -1:0
 0 pm) at Crystal City Farmers Market 📍 102 N Truman Blvd\,  Crystal City
 \,  MO\,  United States\,  Missouri\nhttps://eatthebox.net/blog/events/crys
 tal-city-farmers-market
URL:https://eatthebox.net/blog/events/crystal-city-farmers-market
END:VEVENT
END:VCALENDAR