BEGIN:VCALENDAR
VERSION:2.0
PRODID:-//eventon.com NONSGML v1.0//EN
CALSCALE:GREGORIAN
METHOD:PUBLISH
BEGIN:VEVENT
UID:69e610996415e
DTSTAMP:20260420T114009Z
DTSTART:20260418T130000Z
DTEND:20260418T180000Z
LOCATION:4810 HWY B. Hillsboro MO\,  63050 4810 HWY B. Hillsboro MO\,  63050
SUMMARY:Spring Event at HUMC (Hillsboro United Methodist Church)
DESCRIPTION:📅 Saturday 4/18 &#8211; Hillsboro\,  Missouri (8:00 pm &#821
 1; 1:00 pm) at Spring Event at HUMC (Hillsboro United Methodist Church) 
  4810 HWY B. Hillsboro MO\,  63050\nhttps://eatthebox.net/blog/events/spri
 ng-event-at-humc-hillsboro-united-methodist-church
URL:https://eatthebox.net/blog/events/spring-event-at-humc-hillsboro-united-methodist-church
END:VEVENT
END:VCALENDAR