BEGIN:VCALENDAR
VERSION:2.0
PRODID:-//eventon.com NONSGML v1.0//EN
CALSCALE:GREGORIAN
METHOD:PUBLISH
BEGIN:VEVENT
UID:69e61003a8b49
DTSTAMP:20260420T113739Z
DTSTART:20260417T220000Z
DTEND:20260418T010000Z
LOCATION:1215 Larkin Williams Rd\,  Fenton\,  MO 63026 1215 Larkin Williams Rd\,  Fenton\,  MO 63026
SUMMARY:Fenton Food Truck Fridays
DESCRIPTION:📅 Friday 4/17 &#8211; Fenton\,  Missouri (5:00 pm &#8211; 8:
 00 pm) Fenton Food Truck Fridays 📍 1215 Larkin Williams Rd\,  Fenton\,  
 MO 63026\nhttps://eatthebox.net/blog/events/fenton-food-truck-fridays
URL:https://eatthebox.net/blog/events/fenton-food-truck-fridays
END:VEVENT
END:VCALENDAR