BEGIN:VCALENDAR
VERSION:2.0
PRODID:-//eventon.com NONSGML v1.0//EN
CALSCALE:GREGORIAN
METHOD:PUBLISH
BEGIN:VEVENT
UID:69e89df875d68
DTSTAMP:20260422T100752Z
DTSTART:20260416T153000Z
DTEND:20260416T183000Z
LOCATION:5201 Midamerica Plz. St. Louis\,  MO 63129 5201 Midamerica Plz. St. Louis\,  MO 63129
SUMMARY:Lunch Service at the WashU Center for Advanced Medicine (CAM) in South County
DESCRIPTION:📅 Thursday 4/16 &#8211; St. Louis\,  Missouri (10:30 am &#82
 11; 1:30 pm) Lunch Service at the WashU Center for Advanced Medicine (CAM) 
 in South County 📍 5201 Midamerica Plz. St. Louis\,  MO 63129\nhttps://ea
 tthebox.net/blog/events/lunch-service-at-the-washu-center-for-advanced-medi
 cine-cam-in-south-county-3
URL:https://eatthebox.net/blog/events/lunch-service-at-the-washu-center-for-advanced-medicine-cam-in-south-county-3
END:VEVENT
END:VCALENDAR