BEGIN:VCALENDAR
VERSION:2.0
PRODID:-//eventon.com NONSGML v1.0//EN
CALSCALE:GREGORIAN
METHOD:PUBLISH
BEGIN:VEVENT
UID:69e8a30156ca2
DTSTAMP:20260422T102921Z
DTSTART:20260404T150000Z
DTEND:20260404T190000Z
LOCATION:13041 MO-104\,  De Soto\,  MO 63020 13041 MO-104\,  De Soto\,  MO 63020
SUMMARY:Easter Adventure Run @ Washington State Park.
DESCRIPTION:CANCELLED DUE TO WEATHER\nhttps://eatthebox.net/blog/events/eas
 ter-adventure-run-washington-state-park
URL:https://eatthebox.net/blog/events/easter-adventure-run-washington-state-park
END:VEVENT
END:VCALENDAR