BEGIN:VCALENDAR
VERSION:2.0
PRODID:-//eventon.com NONSGML v1.0//EN
CALSCALE:GREGORIAN
METHOD:PUBLISH
BEGIN:VEVENT
UID:69e60ed6839a7
DTSTAMP:20260420T113238Z
DTSTART:20260403T213000Z
DTEND:20260404T020000Z
LOCATION:9445 Gravois Road Affton\,  MO 63123 9445 Gravois Road Affton\,  MO 63123
SUMMARY:9 Mile Garden
DESCRIPTION:📅 Friday 4/3 &#8211; Affton\,  Missouri (4:30 pm &#8211; 9:0
 0 pm) 9 Mile Garden 📍 9445 Gravois Road Affton\,  MO 63123\nhttps://eatt
 hebox.net/blog/events/9-mile-garden
URL:https://eatthebox.net/blog/events/9-mile-garden
END:VEVENT
END:VCALENDAR