BEGIN:VCALENDAR
VERSION:2.0
PRODID:-//eventon.com NONSGML v1.0//EN
CALSCALE:GREGORIAN
METHOD:PUBLISH
BEGIN:VEVENT
UID:69e60f6831344
DTSTAMP:20260420T113504Z
DTSTART:20260409T150000Z
DTEND:20260409T190000Z
LOCATION:1 Jefferson Barracks Dr\,  St. Louis\,  MO 63125 1 Jefferson Barracks Dr\,  St. Louis\,  MO 63125
SUMMARY:VA (Veterans Affairs) of St. Louis Lunch Service
DESCRIPTION:📅 Thursday 4/9 &#8211; St. Louis\,  Missouri (10:00 am &#821
 1; 2:00 pm) VA (Veterans Affairs) of St. Louis Lunch Service 📍 1 Jeffers
 on Barracks Dr\,  St. Louis\,  MO 63125\nhttps://eatthebox.net/blog/events/
 va-veterans-affairs-of-st-louis-lunch-service
URL:https://eatthebox.net/blog/events/va-veterans-affairs-of-st-louis-lunch-service
END:VEVENT
END:VCALENDAR