BEGIN:VCALENDAR
VERSION:2.0
PRODID:-//eventon.com NONSGML v1.0//EN
CALSCALE:GREGORIAN
METHOD:PUBLISH
BEGIN:VEVENT
UID:69e60e515606a
DTSTAMP:20260420T113025Z
DTSTART:20260401T160000Z
DTEND:20260401T180000Z
LOCATION:3600 N Broadway\,  St. Louis\,  MO 63147 3600 N Broadway\,  St. Louis\,  MO 63147
SUMMARY:Mallinckrodt Lunch Service
DESCRIPTION:📅 Wednesday 4/1 &#8211; St. Louis\,  Missouri (11:00 am &#82
 11; 1:00 pm) Mallinckrodt Lunch Service 📍 3600 N Broadway\,  St. Louis\,
   MO 63147\nhttps://eatthebox.net/blog/events/mallinckrodt-lunch-service
URL:https://eatthebox.net/blog/events/mallinckrodt-lunch-service
END:VEVENT
END:VCALENDAR