BEGIN:VCALENDAR
VERSION:2.0
PRODID:-//eventon.com NONSGML v1.0//EN
CALSCALE:GREGORIAN
METHOD:PUBLISH
BEGIN:VEVENT
UID:69e88e251dd67
DTSTAMP:20260422T090021Z
DTSTART:20260309T070000Z
DTEND:20260309T090000Z
LOCATION:4200 Rusty Rd\,  St. Louis\,  MO 63128 4200 Rusty Rd\,  St. Louis\,  MO 63128
SUMMARY:Costco South County Employee Appreciation Breakfast (Private Event)
DESCRIPTION:📅 Monday 3/9 &#8211; St. Louis\,  Missouri (7:00 am &#8211; 
 9:00 am) Costco South County Employee Appreciation Breakfast (Private Event
 ) 📍 4200 Rusty Rd\,  St. Louis\,  MO 63128\nhttps://eatthebox.net/blog/e
 vents/costco-south-county-employee-appreciation-breakfast-private-event
URL:https://eatthebox.net/blog/events/costco-south-county-employee-appreciation-breakfast-private-event
END:VEVENT
END:VCALENDAR