BEGIN:VCALENDAR
VERSION:2.0
PRODID:-//eventon.com NONSGML v1.0//EN
CALSCALE:GREGORIAN
METHOD:PUBLISH
BEGIN:VEVENT
UID:69e5e60731871
DTSTAMP:20260420T083831Z
DTSTART:20260315T120000Z
DTEND:20260315T160000Z
LOCATION:4051 W Outer Rd\,  Arnold\,  MO 63010 4051 W Outer Rd\,  Arnold\,  MO 63010
SUMMARY:Elite Collectibles March Vendor Expo (Third Sunday of the Month)
DESCRIPTION:📅 Sunday 3/15 &#8211; Arnold\,  Missouri (12:00 pm &#8211; 4
 :00 pm) at Elite Collectibles March Vendor Expo (Third Sunday of the Month)
  📍 4051 W Outer Rd\,  Arnold\,  MO 63010\nhttps://eatthebox.net/blog/eve
 nts/elite-collectibles-march-vendor-expo-first-sunday-of-the-month-2
URL:https://eatthebox.net/blog/events/elite-collectibles-march-vendor-expo-first-sunday-of-the-month-2
END:VEVENT
END:VCALENDAR